BEGIN:VCALENDAR
VERSION:2.0
PRODID:-//Adhyayan - ECPv6.15.18//NONSGML v1.0//EN
CALSCALE:GREGORIAN
METHOD:PUBLISH
X-WR-CALNAME:Adhyayan
X-ORIGINAL-URL:https://adhyayan.asia
X-WR-CALDESC:Events for Adhyayan
REFRESH-INTERVAL;VALUE=DURATION:PT1H
X-Robots-Tag:noindex
X-PUBLISHED-TTL:PT1H
BEGIN:VTIMEZONE
TZID:Asia/Kolkata
BEGIN:STANDARD
TZOFFSETFROM:+0530
TZOFFSETTO:+0530
TZNAME:IST
DTSTART:20240101T000000
END:STANDARD
END:VTIMEZONE
BEGIN:VEVENT
DTSTART;TZID=Asia/Kolkata:20250920T160000
DTEND;TZID=Asia/Kolkata:20250920T170000
DTSTAMP:20260421T204742
CREATED:20250915T114659Z
LAST-MODIFIED:20250915T115227Z
UID:4919-1758384000-1758387600@adhyayan.asia
SUMMARY:CoP with Khyati Lamba - Leadership with a Human Touch: Balancing Empathy and Accountability in Schools !
DESCRIPTION:Explore how school leaders can balance kindness with discipline and empathy with accountability. In this session\, Khyati Lamba\, Headmistress\, City Montessori School\, shares reflections and practical strategies to build trust\, emotional safety\, and high standards in schools.\nFacilitator: Khyati Lamba – Headmistress\, City Montessori School \nWhat you will gain from this session:\n \n\n\nAppreciate the importance of empathetic leadership in creating a positive\, value-driven school culture \n\n\nUnderstand leadership dilemmas in balancing empathy with accountability through real-life examples and reflective prompts \n\n\nGain insights into practical behaviours that foster trust\, emotional safety\, and high standards among students\, teachers\, and parents \n\n\nBe introduced to adaptable practices that can be integrated into school environments \n\n\nLeave with 3–5 actionable ideas or leadership habits to strengthen both empathy and discipline \n\n\nWe look forward to having you with us for this powerful conversation on leadership that feels human. \nFind the Registration Link :  https://adhyayan.asia/event/cop-with-khyati-lamba-leadership-with-a-human-touch-balancing-empathy-and-accountability-in-schools/  \n  \n 
URL:https://adhyayan.asia/event/cop-with-khyati-lamba-leadership-with-a-human-touch-balancing-empathy-and-accountability-in-schools/
ATTACH;FMTTYPE=image/jpeg:https://adhyayan.asia/wp-content/uploads/2025/09/WhatsApp-Image-2025-09-15-at-16.28.48.jpeg
END:VEVENT
END:VCALENDAR