BEGIN:VCALENDAR
VERSION:2.0
PRODID:-//Adhyayan - ECPv6.15.18//NONSGML v1.0//EN
CALSCALE:GREGORIAN
METHOD:PUBLISH
X-WR-CALNAME:Adhyayan
X-ORIGINAL-URL:https://adhyayan.asia
X-WR-CALDESC:Events for Adhyayan
REFRESH-INTERVAL;VALUE=DURATION:PT1H
X-Robots-Tag:noindex
X-PUBLISHED-TTL:PT1H
BEGIN:VTIMEZONE
TZID:Asia/Kolkata
BEGIN:STANDARD
TZOFFSETFROM:+0530
TZOFFSETTO:+0530
TZNAME:IST
DTSTART:20240101T000000
END:STANDARD
END:VTIMEZONE
BEGIN:VEVENT
DTSTART;TZID=Asia/Kolkata:20251122T143000
DTEND;TZID=Asia/Kolkata:20251122T163000
DTSTAMP:20260422T010355
CREATED:20251115T043029Z
LAST-MODIFIED:20251115T043029Z
UID:4971-1763821800-1763829000@adhyayan.asia
SUMMARY:PD: Designing Rubrics !
DESCRIPTION:Transform your assessment practices with a powerful tool that brings clarity\, consistency\, and meaningful feedback into your classroom — with Jayshree Iyer.\nFacilitator: Jayshree Iyer – Director\, Adhyayan Quality Education Services \n● Demystify Rubrics! Understand what a rubric is and why it is a valuable formative assessment tool.\n● See Progress Clearly — analyse sample rubrics to understand how performance levels evolve from one stage to the next.\n● Experience the Process — engage in hands-on activities to create rubrics that support deeper learning.\n● Design with Purpose — learn how to craft effective rubrics aligned with specific learning outcomes.\n● Enhance Classroom Assessment — discover how rubrics make expectations transparent for both teachers and learners. \nThis session provides an opportunity to strengthen your assessment toolkit by exploring a structured yet flexible method that supports learning\, reflection\, and growth for every child. \nJoin us for: 22nd November 2025 | 2:30 pm – 4:00 pm | Designing Rubrics\nFind The Registration Link :  https://adhyayan.asia/event/pd-designing-rubrics/
URL:https://adhyayan.asia/event/pd-designing-rubrics/
CATEGORIES:PD
ATTACH;FMTTYPE=image/jpeg:https://adhyayan.asia/wp-content/uploads/2025/11/WhatsApp-Image-2025-11-15-at-09.16.45.jpeg
END:VEVENT
END:VCALENDAR