BEGIN:VCALENDAR
VERSION:2.0
PRODID:-//Adhyayan - ECPv6.15.18//NONSGML v1.0//EN
CALSCALE:GREGORIAN
METHOD:PUBLISH
X-ORIGINAL-URL:https://adhyayan.asia
X-WR-CALDESC:Events for Adhyayan
REFRESH-INTERVAL;VALUE=DURATION:PT1H
X-Robots-Tag:noindex
X-PUBLISHED-TTL:PT1H
BEGIN:VTIMEZONE
TZID:Asia/Kolkata
BEGIN:STANDARD
TZOFFSETFROM:+0530
TZOFFSETTO:+0530
TZNAME:IST
DTSTART:20240101T000000
END:STANDARD
END:VTIMEZONE
BEGIN:VEVENT
DTSTART;TZID=Asia/Kolkata:20251206T163000
DTEND;TZID=Asia/Kolkata:20251206T173000
DTSTAMP:20260422T021610
CREATED:20251120T114955Z
LAST-MODIFIED:20251120T120127Z
UID:4976-1765038600-1765042200@adhyayan.asia
SUMMARY:CoP: The Importance of Building a Safe Classroom Culture!
DESCRIPTION:Build a classroom environment where every learner feels safe\, respected\, and ready to grow — with Purvi Vora.Facilitator: Purvi Vora – Education Consultant\, Reniscience Education \n● Understand the Foundation — explore what “safe classroom culture” truly means and why it is essential for students’ emotional and academic development.\n● Recognize Key Elements — learn how trust\, consistency\, empathy\, and clear expectations shape a supportive learning environment.\n● Strengthen Relationships — dive into practical strategies to nurture meaningful teacher–student and student–student relationships that encourage openness and confidence.\n● Create Inclusive Spaces — discover how to make every learner feel seen\, heard\, and valued regardless of background or ability.\n● Respond with Sensitivity — develop skills to handle classroom challenges\, conflicts\, and student concerns with compassion and fairness. \nThis session offers a powerful opportunity to rethink how classroom culture influences learning. You will explore simple\, actionable practices that create emotionally safe\, collaborative\, and empowering spaces — where students feel motivated to take risks\, express themselves\, and thrive. \nJoin us for: 6th December 2025 | 4:30 PM |\nFind The Registration Link:  https://adhyayan.asia/event/cop-the-importan…lassroom-culture
URL:https://adhyayan.asia/event/cop-the-importance-of-building-a-safe-classroom-culture/
CATEGORIES:COP
ATTACH;FMTTYPE=image/jpeg:https://adhyayan.asia/wp-content/uploads/2025/11/WhatsApp-Image-2025-11-20-at-15.55.23.jpeg
END:VEVENT
END:VCALENDAR