BEGIN:VCALENDAR
VERSION:2.0
PRODID:-//Adhyayan - ECPv6.15.18//NONSGML v1.0//EN
CALSCALE:GREGORIAN
METHOD:PUBLISH
X-ORIGINAL-URL:https://adhyayan.asia
X-WR-CALDESC:Events for Adhyayan
REFRESH-INTERVAL;VALUE=DURATION:PT1H
X-Robots-Tag:noindex
X-PUBLISHED-TTL:PT1H
BEGIN:VTIMEZONE
TZID:Asia/Kolkata
BEGIN:STANDARD
TZOFFSETFROM:+0530
TZOFFSETTO:+0530
TZNAME:IST
DTSTART:20240101T000000
END:STANDARD
END:VTIMEZONE
BEGIN:VEVENT
DTSTART;TZID=Asia/Kolkata:20250823T160000
DTEND;TZID=Asia/Kolkata:20250823T180000
DTSTAMP:20260422T055204
CREATED:20250819T045457Z
LAST-MODIFIED:20250822T102935Z
UID:4647-1755964800-1755972000@adhyayan.asia
SUMMARY:An Invitation to Connect: Adhyayan’s Educator's Meet-Up
DESCRIPTION:After a successful meet-up in Mumbai\, we are coming to Delhi! \nWe are delighted to invite you to a unique in-person meet-up hosted by Adhyayan Quality Education Services Pvt. Ltd\, specially curated for passionate educators like you. \nThis meet-up isn’t a workshop or a formal session — it’s a safe\, relaxed space for candid conversations\, shared reflections\, and authentic connections. We’re coming together to listen\, learn\, and support one another in our journeys as educators and leaders. \nWhat to expect: \n● An informal and welcoming environme\n● Honest\, free-flowing conversations about your experiences in education\n● Opportunities to network with like-minded school leaders\n● The beginning of a close-knit\, non-judgmental learning community\n● Coffee and cakes \nWe would be honoured to have your voice in the room. \nPlease RSVP by replying to this message with the word “Confirmed!” / or email us at info@adhyayan.asia / or text us at 9773187331 \, by Tuesday\, 19th August 2025 \nPlease also share this with educators and school leaders who would like to join our community.\nDate: Saturday\, 23rd August 2025\nTime: 4-6 pm\nVenue: Shri Ram Global School\, HS-03\, Techzone-7\, Greater Noida West\, Gautam Budh Nagar\, U.P. 203207\n Visit this link to register – https://lnkd.in/d78ikVGa
URL:https://adhyayan.asia/event/an-invitation-to-connect-adhyayans-educators-meet-up-2/
CATEGORIES:MEET - UP
ATTACH;FMTTYPE=image/jpeg:https://adhyayan.asia/wp-content/uploads/2025/08/WhatsApp-Image-2025-08-18-at-19.08.43.jpeg
END:VEVENT
END:VCALENDAR