BEGIN:VCALENDAR
VERSION:2.0
PRODID:-//Adhyayan - ECPv6.15.18//NONSGML v1.0//EN
CALSCALE:GREGORIAN
METHOD:PUBLISH
X-ORIGINAL-URL:https://adhyayan.asia
X-WR-CALDESC:Events for Adhyayan
REFRESH-INTERVAL;VALUE=DURATION:PT1H
X-Robots-Tag:noindex
X-PUBLISHED-TTL:PT1H
BEGIN:VTIMEZONE
TZID:Asia/Kolkata
BEGIN:STANDARD
TZOFFSETFROM:+0530
TZOFFSETTO:+0530
TZNAME:IST
DTSTART:20240101T000000
END:STANDARD
END:VTIMEZONE
BEGIN:VEVENT
DTSTART;TZID=Asia/Kolkata:20251004T163000
DTEND;TZID=Asia/Kolkata:20251004T183000
DTSTAMP:20260422T032842
CREATED:20250919T092704Z
LAST-MODIFIED:20250923T141937Z
UID:4929-1759595400-1759602600@adhyayan.asia
SUMMARY:An Invitation to Connect: Adhyayan’s Educator's Meet-Up
DESCRIPTION:We are back in Mumbai with another meet-up\, exclusively for Educators.\nWe are delighted to invite you to a unique in-person meet-up hosted by Adhyayan Quality Education Services Pvt. Ltd\, specially curated for passionate educators like you.\nThis is your space to learn\, share\, and discuss at your pace on a topic very pertinent in today’s scenario. This meet-up gives everyone a voice. \nWhat to expect:\n● An informal and welcoming environment● Honest\, free-flowing conversations on experiences in education● Opportunities to network with like-minded school leaders● A close-knit\, non-judgmental learning community● Coffee and cakes \nWe would be honoured to have your voice in the room.\nPlease RSVP by replying to this message with the word “Confirmed!” / or email us at info@adhyayan.asia / or text us at 9773187331 \, by Wednesday\, 1st October 2025 \nPlease also share this with educators and school leaders who would like to join our community. \nDate: Saturday\, 4th October 2025Time: 4:30 – 6:30 pmVenue: Ennoble Social Innovation Foundation\, Wellington Business Park 2\, 202\, 2nd Floor\, Marol\, Andheri (East)\, Mumbai – 400059\nVisit this link to register – https://adhyayan.asia/event/4929/ \n 
URL:https://adhyayan.asia/event/an-invitation-to-connect-adhyayans-educators-meet-up-3/
LOCATION:Mumbai\, Ennoble Social Innovation Foundation\, Mumbai\, Maharashtra\, 400059\, India
CATEGORIES:MEET - UP
ATTACH;FMTTYPE=image/jpeg:https://adhyayan.asia/wp-content/uploads/2025/09/WhatsApp-Image-2025-09-18-at-12.27.57.jpeg
END:VEVENT
END:VCALENDAR