BEGIN:VCALENDAR
VERSION:2.0
PRODID:-//Adhyayan - ECPv6.15.18//NONSGML v1.0//EN
CALSCALE:GREGORIAN
METHOD:PUBLISH
X-WR-CALNAME:Adhyayan
X-ORIGINAL-URL:https://adhyayan.asia
X-WR-CALDESC:Events for Adhyayan
REFRESH-INTERVAL;VALUE=DURATION:PT1H
X-Robots-Tag:noindex
X-PUBLISHED-TTL:PT1H
BEGIN:VTIMEZONE
TZID:Asia/Kolkata
BEGIN:STANDARD
TZOFFSETFROM:+0530
TZOFFSETTO:+0530
TZNAME:IST
DTSTART:20240101T000000
END:STANDARD
END:VTIMEZONE
BEGIN:VEVENT
DTSTART;TZID=Asia/Kolkata:20250913T160000
DTEND;TZID=Asia/Kolkata:20250913T173000
DTSTAMP:20260424T023621
CREATED:20250903T120414Z
LAST-MODIFIED:20250903T121739Z
UID:4833-1757779200-1757784600@adhyayan.asia
SUMMARY:PD: From Silos to Systems: Principals & Teachers As Systems Thinkers !!
DESCRIPTION:Unlock the power of systems thinking and transform your teaching into an experience where connections\, meaning\, and growth come alive — with Trisha Chakraborty.Facilitator: Trisha Chakraborty – Ex. Director Academics\, Suchitra Academy\n      ● Unlock the power to move beyond teaching isolated concepts and embrace integrated learning. \n      ● Unlock the ability to identify and leverage systemic connections across subjects\, skills\, and classroom practices. \n      ●  Unlock a mindset of systems thinking that leads to deeper understanding and long-term retention. \n      ●  Unlock strategies to design learning ecosystems that are meaningful\, relevant\, and future-ready. \n      ●  Unlock approaches that transform classroom interactions into opportunities for growth\, connection\, and lasting impact.\n\nThis session offers an opportunity to adopt a systems thinking approach and move beyond siloed teaching. Gain strategies to design classrooms that foster deeper understanding and long-term learning impact.\n \nJoin us for: 13th September 2025 | 4:00 pm | \nFind The Registration Link : https://adhyayan.asia/event/pd-from-silos-to…systems-thinkers/
URL:https://adhyayan.asia/event/pd-from-silos-to-systems-teachers-as-systems-thinkers/
CATEGORIES:PD
ATTACH;FMTTYPE=image/jpeg:https://adhyayan.asia/wp-content/uploads/2025/09/WhatsApp-Image-2025-09-03-at-15.50.48-1.jpeg
END:VEVENT
END:VCALENDAR