BEGIN:VCALENDAR
VERSION:2.0
PRODID:-//Adhyayan - ECPv6.15.18//NONSGML v1.0//EN
CALSCALE:GREGORIAN
METHOD:PUBLISH
X-WR-CALNAME:Adhyayan
X-ORIGINAL-URL:https://adhyayan.asia
X-WR-CALDESC:Events for Adhyayan
REFRESH-INTERVAL;VALUE=DURATION:PT1H
X-Robots-Tag:noindex
X-PUBLISHED-TTL:PT1H
BEGIN:VTIMEZONE
TZID:Asia/Kolkata
BEGIN:STANDARD
TZOFFSETFROM:+0530
TZOFFSETTO:+0530
TZNAME:IST
DTSTART:20240101T000000
END:STANDARD
END:VTIMEZONE
BEGIN:VEVENT
DTSTART;TZID=Asia/Kolkata:20251213T160000
DTEND;TZID=Asia/Kolkata:20251213T173000
DTSTAMP:20260424T003257
CREATED:20251203T071554Z
LAST-MODIFIED:20251203T082556Z
UID:4985-1765641600-1765647000@adhyayan.asia
SUMMARY:PD:Bringing Integration Alive – An Experiential Workshop to Understand the Integrated Learning Approach
DESCRIPTION:(Registration cost applicable.) \n📅 13th December | 4 PM🎤 Facilitator: Archana Handa \nStep into a vibrant\, hands-on learning experience where a simple story turns into a powerful tool for integrated teaching!This workshop brings alive the magic of connecting subjects\, skills\, emotions\, and creativity through an engaging read-aloud journey. \n🌈 What makes this session unmissable?\n✨ Experience integration live through storytelling✨ Discover hidden links across language\, numeracy\, arts & SEL✨ Design meaningful\, joyful classroom engagements✨ Learn practical strategies aligned with NEP 2020✨ Walk away inspired\, energised\, and full of fresh ideas! \n🌿 About the Facilitator:\nWith 20+ years of expertise\, Archana blends progressive pedagogies with deep classroom wisdom. Her sessions are warm\, interactive\, and full of clarity—perfect for educators who want to transform learning. \n🔗 Registration Link: https://docs.google.com/forms/d/e/1FAIpQLSfxbeCXuZU7PxDkraM9X2U8KYpgVz-U0eiXbDnhNuK5aw61HA/viewform?usp=sharing&ouid=101898332353877371288
URL:https://adhyayan.asia/event/pdbringing-integration-alive-an-experiential-workshop-to-understand-the-integrated-learning-approach/
CATEGORIES:PD
ATTACH;FMTTYPE=image/jpeg:https://adhyayan.asia/wp-content/uploads/2025/12/WhatsApp-Image-2025-12-02-at-12.00.11-PM.jpeg
END:VEVENT
END:VCALENDAR